BEGIN:VCALENDAR
VERSION:2.0
PRODID:-//Stadthund - ECPv6.5.1.5//NONSGML v1.0//EN
CALSCALE:GREGORIAN
METHOD:PUBLISH
X-WR-CALNAME:Stadthund
X-ORIGINAL-URL:https://www.stadthund.de
X-WR-CALDESC:Veranstaltungen für Stadthund
REFRESH-INTERVAL;VALUE=DURATION:PT1H
X-Robots-Tag:noindex
X-PUBLISHED-TTL:PT1H
BEGIN:VTIMEZONE
TZID:Europe/Helsinki
BEGIN:DAYLIGHT
TZOFFSETFROM:+0200
TZOFFSETTO:+0300
TZNAME:EEST
DTSTART:20240331T010000
END:DAYLIGHT
BEGIN:STANDARD
TZOFFSETFROM:+0300
TZOFFSETTO:+0200
TZNAME:EET
DTSTART:20241027T010000
END:STANDARD
END:VTIMEZONE
BEGIN:VEVENT
DTSTART;TZID=Europe/Helsinki:20241202T160000
DTEND;TZID=Europe/Helsinki:20241202T190000
DTSTAMP:20260420T090558
CREATED:20230131T190346Z
LAST-MODIFIED:20230131T190346Z
UID:10000539-1733155200-1733166000@www.stadthund.de
SUMMARY:Ersttermine / Einzeltraining
DESCRIPTION:
URL:https://www.stadthund.de/termin/ersttermine-einzeltraining/2024-12-02/
END:VEVENT
BEGIN:VEVENT
DTSTART;TZID=Europe/Helsinki:20241209T160000
DTEND;TZID=Europe/Helsinki:20241209T190000
DTSTAMP:20260420T090558
CREATED:20230131T190346Z
LAST-MODIFIED:20230131T190346Z
UID:10000540-1733760000-1733770800@www.stadthund.de
SUMMARY:Ersttermine / Einzeltraining
DESCRIPTION:
URL:https://www.stadthund.de/termin/ersttermine-einzeltraining/2024-12-09/
END:VEVENT
BEGIN:VEVENT
DTSTART;TZID=Europe/Helsinki:20241216T160000
DTEND;TZID=Europe/Helsinki:20241216T190000
DTSTAMP:20260420T090558
CREATED:20230131T190346Z
LAST-MODIFIED:20230131T190346Z
UID:10000541-1734364800-1734375600@www.stadthund.de
SUMMARY:Ersttermine / Einzeltraining
DESCRIPTION:
URL:https://www.stadthund.de/termin/ersttermine-einzeltraining/2024-12-16/
END:VEVENT
BEGIN:VEVENT
DTSTART;TZID=Europe/Helsinki:20241223T160000
DTEND;TZID=Europe/Helsinki:20241223T190000
DTSTAMP:20260420T090558
CREATED:20230131T190346Z
LAST-MODIFIED:20230131T190346Z
UID:10000542-1734969600-1734980400@www.stadthund.de
SUMMARY:Ersttermine / Einzeltraining
DESCRIPTION:
URL:https://www.stadthund.de/termin/ersttermine-einzeltraining/2024-12-23/
END:VEVENT
BEGIN:VEVENT
DTSTART;TZID=Europe/Helsinki:20241230T160000
DTEND;TZID=Europe/Helsinki:20241230T190000
DTSTAMP:20260420T090558
CREATED:20230131T190346Z
LAST-MODIFIED:20230131T190346Z
UID:10000543-1735574400-1735585200@www.stadthund.de
SUMMARY:Ersttermine / Einzeltraining
DESCRIPTION:
URL:https://www.stadthund.de/termin/ersttermine-einzeltraining/2024-12-30/
END:VEVENT
END:VCALENDAR