BEGIN:VCALENDAR
VERSION:2.0
PRODID:-//Stadthund - ECPv6.5.1.5//NONSGML v1.0//EN
CALSCALE:GREGORIAN
METHOD:PUBLISH
X-WR-CALNAME:Stadthund
X-ORIGINAL-URL:https://www.stadthund.de
X-WR-CALDESC:Veranstaltungen für Stadthund
REFRESH-INTERVAL;VALUE=DURATION:PT1H
X-Robots-Tag:noindex
X-PUBLISHED-TTL:PT1H
BEGIN:VTIMEZONE
TZID:Europe/Helsinki
BEGIN:DAYLIGHT
TZOFFSETFROM:+0200
TZOFFSETTO:+0300
TZNAME:EEST
DTSTART:20240331T010000
END:DAYLIGHT
BEGIN:STANDARD
TZOFFSETFROM:+0300
TZOFFSETTO:+0200
TZNAME:EET
DTSTART:20241027T010000
END:STANDARD
END:VTIMEZONE
BEGIN:VEVENT
DTSTART;TZID=Europe/Helsinki:20241007T160000
DTEND;TZID=Europe/Helsinki:20241007T190000
DTSTAMP:20260420T122805
CREATED:20230131T190346Z
LAST-MODIFIED:20230131T190346Z
UID:10000531-1728316800-1728327600@www.stadthund.de
SUMMARY:Ersttermine / Einzeltraining
DESCRIPTION:
URL:https://www.stadthund.de/termin/ersttermine-einzeltraining/2024-10-07/
END:VEVENT
BEGIN:VEVENT
DTSTART;TZID=Europe/Helsinki:20241014T160000
DTEND;TZID=Europe/Helsinki:20241014T190000
DTSTAMP:20260420T122805
CREATED:20230131T190346Z
LAST-MODIFIED:20230131T190346Z
UID:10000532-1728921600-1728932400@www.stadthund.de
SUMMARY:Ersttermine / Einzeltraining
DESCRIPTION:
URL:https://www.stadthund.de/termin/ersttermine-einzeltraining/2024-10-14/
END:VEVENT
BEGIN:VEVENT
DTSTART;TZID=Europe/Helsinki:20241021T160000
DTEND;TZID=Europe/Helsinki:20241021T190000
DTSTAMP:20260420T122805
CREATED:20230131T190346Z
LAST-MODIFIED:20230131T190346Z
UID:10000533-1729526400-1729537200@www.stadthund.de
SUMMARY:Ersttermine / Einzeltraining
DESCRIPTION:
URL:https://www.stadthund.de/termin/ersttermine-einzeltraining/2024-10-21/
END:VEVENT
BEGIN:VEVENT
DTSTART;TZID=Europe/Helsinki:20241028T160000
DTEND;TZID=Europe/Helsinki:20241028T190000
DTSTAMP:20260420T122805
CREATED:20230131T190346Z
LAST-MODIFIED:20230131T190346Z
UID:10000534-1730131200-1730142000@www.stadthund.de
SUMMARY:Ersttermine / Einzeltraining
DESCRIPTION:
URL:https://www.stadthund.de/termin/ersttermine-einzeltraining/2024-10-28/
END:VEVENT
END:VCALENDAR