BEGIN:VCALENDAR
VERSION:2.0
PRODID:-//Stadthund - ECPv6.5.1.5//NONSGML v1.0//EN
CALSCALE:GREGORIAN
METHOD:PUBLISH
X-ORIGINAL-URL:https://www.stadthund.de
X-WR-CALDESC:Veranstaltungen für Stadthund
REFRESH-INTERVAL;VALUE=DURATION:PT1H
X-Robots-Tag:noindex
X-PUBLISHED-TTL:PT1H
BEGIN:VTIMEZONE
TZID:Europe/Helsinki
BEGIN:DAYLIGHT
TZOFFSETFROM:+0200
TZOFFSETTO:+0300
TZNAME:EEST
DTSTART:20240331T010000
END:DAYLIGHT
BEGIN:STANDARD
TZOFFSETFROM:+0300
TZOFFSETTO:+0200
TZNAME:EET
DTSTART:20241027T010000
END:STANDARD
END:VTIMEZONE
BEGIN:VEVENT
DTSTART;TZID=Europe/Helsinki:20240902T160000
DTEND;TZID=Europe/Helsinki:20240902T190000
DTSTAMP:20260420T141924
CREATED:20230131T190346Z
LAST-MODIFIED:20230131T190346Z
UID:10000526-1725292800-1725303600@www.stadthund.de
SUMMARY:Ersttermine / Einzeltraining
DESCRIPTION:
URL:https://www.stadthund.de/termin/ersttermine-einzeltraining/2024-09-02/
END:VEVENT
BEGIN:VEVENT
DTSTART;TZID=Europe/Helsinki:20240909T160000
DTEND;TZID=Europe/Helsinki:20240909T190000
DTSTAMP:20260420T141924
CREATED:20230131T190346Z
LAST-MODIFIED:20230131T190346Z
UID:10000527-1725897600-1725908400@www.stadthund.de
SUMMARY:Ersttermine / Einzeltraining
DESCRIPTION:
URL:https://www.stadthund.de/termin/ersttermine-einzeltraining/2024-09-09/
END:VEVENT
BEGIN:VEVENT
DTSTART;TZID=Europe/Helsinki:20240916T160000
DTEND;TZID=Europe/Helsinki:20240916T190000
DTSTAMP:20260420T141924
CREATED:20230131T190346Z
LAST-MODIFIED:20230131T190346Z
UID:10000528-1726502400-1726513200@www.stadthund.de
SUMMARY:Ersttermine / Einzeltraining
DESCRIPTION:
URL:https://www.stadthund.de/termin/ersttermine-einzeltraining/2024-09-16/
END:VEVENT
BEGIN:VEVENT
DTSTART;TZID=Europe/Helsinki:20240923T160000
DTEND;TZID=Europe/Helsinki:20240923T190000
DTSTAMP:20260420T141924
CREATED:20230131T190346Z
LAST-MODIFIED:20230131T190346Z
UID:10000529-1727107200-1727118000@www.stadthund.de
SUMMARY:Ersttermine / Einzeltraining
DESCRIPTION:
URL:https://www.stadthund.de/termin/ersttermine-einzeltraining/2024-09-23/
END:VEVENT
BEGIN:VEVENT
DTSTART;TZID=Europe/Helsinki:20240930T160000
DTEND;TZID=Europe/Helsinki:20240930T190000
DTSTAMP:20260420T141924
CREATED:20230131T190346Z
LAST-MODIFIED:20230131T190346Z
UID:10000530-1727712000-1727722800@www.stadthund.de
SUMMARY:Ersttermine / Einzeltraining
DESCRIPTION:
URL:https://www.stadthund.de/termin/ersttermine-einzeltraining/2024-09-30/
END:VEVENT
END:VCALENDAR