BEGIN:VCALENDAR
VERSION:2.0
PRODID:-//Stadthund - ECPv6.5.1.5//NONSGML v1.0//EN
CALSCALE:GREGORIAN
METHOD:PUBLISH
X-ORIGINAL-URL:https://www.stadthund.de
X-WR-CALDESC:Veranstaltungen für Stadthund
REFRESH-INTERVAL;VALUE=DURATION:PT1H
X-Robots-Tag:noindex
X-PUBLISHED-TTL:PT1H
BEGIN:VTIMEZONE
TZID:Europe/Helsinki
BEGIN:DAYLIGHT
TZOFFSETFROM:+0200
TZOFFSETTO:+0300
TZNAME:EEST
DTSTART:20240331T010000
END:DAYLIGHT
BEGIN:STANDARD
TZOFFSETFROM:+0300
TZOFFSETTO:+0200
TZNAME:EET
DTSTART:20241027T010000
END:STANDARD
END:VTIMEZONE
BEGIN:VEVENT
DTSTART;TZID=Europe/Helsinki:20240805T160000
DTEND;TZID=Europe/Helsinki:20240805T190000
DTSTAMP:20260420T161710
CREATED:20230131T190346Z
LAST-MODIFIED:20230131T190346Z
UID:10000522-1722873600-1722884400@www.stadthund.de
SUMMARY:Ersttermine / Einzeltraining
DESCRIPTION:
URL:https://www.stadthund.de/termin/ersttermine-einzeltraining/2024-08-05/
END:VEVENT
BEGIN:VEVENT
DTSTART;TZID=Europe/Helsinki:20240812T160000
DTEND;TZID=Europe/Helsinki:20240812T190000
DTSTAMP:20260420T161710
CREATED:20230131T190346Z
LAST-MODIFIED:20230131T190346Z
UID:10000523-1723478400-1723489200@www.stadthund.de
SUMMARY:Ersttermine / Einzeltraining
DESCRIPTION:
URL:https://www.stadthund.de/termin/ersttermine-einzeltraining/2024-08-12/
END:VEVENT
BEGIN:VEVENT
DTSTART;TZID=Europe/Helsinki:20240819T160000
DTEND;TZID=Europe/Helsinki:20240819T190000
DTSTAMP:20260420T161710
CREATED:20230131T190346Z
LAST-MODIFIED:20230131T190346Z
UID:10000524-1724083200-1724094000@www.stadthund.de
SUMMARY:Ersttermine / Einzeltraining
DESCRIPTION:
URL:https://www.stadthund.de/termin/ersttermine-einzeltraining/2024-08-19/
END:VEVENT
BEGIN:VEVENT
DTSTART;TZID=Europe/Helsinki:20240826T160000
DTEND;TZID=Europe/Helsinki:20240826T190000
DTSTAMP:20260420T161710
CREATED:20230131T190346Z
LAST-MODIFIED:20230131T190346Z
UID:10000525-1724688000-1724698800@www.stadthund.de
SUMMARY:Ersttermine / Einzeltraining
DESCRIPTION:
URL:https://www.stadthund.de/termin/ersttermine-einzeltraining/2024-08-26/
END:VEVENT
END:VCALENDAR