BEGIN:VCALENDAR
VERSION:2.0
PRODID:-//Stadthund - ECPv6.5.1.5//NONSGML v1.0//EN
CALSCALE:GREGORIAN
METHOD:PUBLISH
X-WR-CALNAME:Stadthund
X-ORIGINAL-URL:https://www.stadthund.de
X-WR-CALDESC:Veranstaltungen für Stadthund
REFRESH-INTERVAL;VALUE=DURATION:PT1H
X-Robots-Tag:noindex
X-PUBLISHED-TTL:PT1H
BEGIN:VTIMEZONE
TZID:Europe/Helsinki
BEGIN:DAYLIGHT
TZOFFSETFROM:+0200
TZOFFSETTO:+0300
TZNAME:EEST
DTSTART:20240331T010000
END:DAYLIGHT
BEGIN:STANDARD
TZOFFSETFROM:+0300
TZOFFSETTO:+0200
TZNAME:EET
DTSTART:20241027T010000
END:STANDARD
END:VTIMEZONE
BEGIN:VEVENT
DTSTART;TZID=Europe/Helsinki:20240701T160000
DTEND;TZID=Europe/Helsinki:20240701T190000
DTSTAMP:20260420T175938
CREATED:20230131T190346Z
LAST-MODIFIED:20230131T190346Z
UID:10000517-1719849600-1719860400@www.stadthund.de
SUMMARY:Ersttermine / Einzeltraining
DESCRIPTION:
URL:https://www.stadthund.de/termin/ersttermine-einzeltraining/2024-07-01/
END:VEVENT
BEGIN:VEVENT
DTSTART;TZID=Europe/Helsinki:20240708T160000
DTEND;TZID=Europe/Helsinki:20240708T190000
DTSTAMP:20260420T175938
CREATED:20230131T190346Z
LAST-MODIFIED:20230131T190346Z
UID:10000518-1720454400-1720465200@www.stadthund.de
SUMMARY:Ersttermine / Einzeltraining
DESCRIPTION:
URL:https://www.stadthund.de/termin/ersttermine-einzeltraining/2024-07-08/
END:VEVENT
BEGIN:VEVENT
DTSTART;TZID=Europe/Helsinki:20240715T160000
DTEND;TZID=Europe/Helsinki:20240715T190000
DTSTAMP:20260420T175938
CREATED:20230131T190346Z
LAST-MODIFIED:20230131T190346Z
UID:10000519-1721059200-1721070000@www.stadthund.de
SUMMARY:Ersttermine / Einzeltraining
DESCRIPTION:
URL:https://www.stadthund.de/termin/ersttermine-einzeltraining/2024-07-15/
END:VEVENT
BEGIN:VEVENT
DTSTART;TZID=Europe/Helsinki:20240722T160000
DTEND;TZID=Europe/Helsinki:20240722T190000
DTSTAMP:20260420T175938
CREATED:20230131T190346Z
LAST-MODIFIED:20230131T190346Z
UID:10000520-1721664000-1721674800@www.stadthund.de
SUMMARY:Ersttermine / Einzeltraining
DESCRIPTION:
URL:https://www.stadthund.de/termin/ersttermine-einzeltraining/2024-07-22/
END:VEVENT
BEGIN:VEVENT
DTSTART;TZID=Europe/Helsinki:20240729T160000
DTEND;TZID=Europe/Helsinki:20240729T190000
DTSTAMP:20260420T175938
CREATED:20230131T190346Z
LAST-MODIFIED:20230131T190346Z
UID:10000521-1722268800-1722279600@www.stadthund.de
SUMMARY:Ersttermine / Einzeltraining
DESCRIPTION:
URL:https://www.stadthund.de/termin/ersttermine-einzeltraining/2024-07-29/
END:VEVENT
END:VCALENDAR