BEGIN:VCALENDAR
VERSION:2.0
PRODID:-//Stadthund - ECPv6.5.1.5//NONSGML v1.0//EN
CALSCALE:GREGORIAN
METHOD:PUBLISH
X-WR-CALNAME:Stadthund
X-ORIGINAL-URL:https://www.stadthund.de
X-WR-CALDESC:Veranstaltungen für Stadthund
REFRESH-INTERVAL;VALUE=DURATION:PT1H
X-Robots-Tag:noindex
X-PUBLISHED-TTL:PT1H
BEGIN:VTIMEZONE
TZID:Europe/Helsinki
BEGIN:DAYLIGHT
TZOFFSETFROM:+0200
TZOFFSETTO:+0300
TZNAME:EEST
DTSTART:20240331T010000
END:DAYLIGHT
BEGIN:STANDARD
TZOFFSETFROM:+0300
TZOFFSETTO:+0200
TZNAME:EET
DTSTART:20241027T010000
END:STANDARD
END:VTIMEZONE
BEGIN:VEVENT
DTSTART;TZID=Europe/Helsinki:20240401T160000
DTEND;TZID=Europe/Helsinki:20240401T190000
DTSTAMP:20260420T233446
CREATED:20230131T190346Z
LAST-MODIFIED:20230131T190346Z
UID:10000504-1711987200-1711998000@www.stadthund.de
SUMMARY:Ersttermine / Einzeltraining
DESCRIPTION:
URL:https://www.stadthund.de/termin/ersttermine-einzeltraining/2024-04-01/
END:VEVENT
BEGIN:VEVENT
DTSTART;TZID=Europe/Helsinki:20240408T160000
DTEND;TZID=Europe/Helsinki:20240408T190000
DTSTAMP:20260420T233446
CREATED:20230131T190346Z
LAST-MODIFIED:20230131T190346Z
UID:10000505-1712592000-1712602800@www.stadthund.de
SUMMARY:Ersttermine / Einzeltraining
DESCRIPTION:
URL:https://www.stadthund.de/termin/ersttermine-einzeltraining/2024-04-08/
END:VEVENT
BEGIN:VEVENT
DTSTART;TZID=Europe/Helsinki:20240415T160000
DTEND;TZID=Europe/Helsinki:20240415T190000
DTSTAMP:20260420T233446
CREATED:20230131T190346Z
LAST-MODIFIED:20230131T190346Z
UID:10000506-1713196800-1713207600@www.stadthund.de
SUMMARY:Ersttermine / Einzeltraining
DESCRIPTION:
URL:https://www.stadthund.de/termin/ersttermine-einzeltraining/2024-04-15/
END:VEVENT
BEGIN:VEVENT
DTSTART;TZID=Europe/Helsinki:20240422T160000
DTEND;TZID=Europe/Helsinki:20240422T190000
DTSTAMP:20260420T233446
CREATED:20230131T190346Z
LAST-MODIFIED:20230131T190346Z
UID:10000507-1713801600-1713812400@www.stadthund.de
SUMMARY:Ersttermine / Einzeltraining
DESCRIPTION:
URL:https://www.stadthund.de/termin/ersttermine-einzeltraining/2024-04-22/
END:VEVENT
BEGIN:VEVENT
DTSTART;TZID=Europe/Helsinki:20240429T160000
DTEND;TZID=Europe/Helsinki:20240429T190000
DTSTAMP:20260420T233446
CREATED:20230131T190346Z
LAST-MODIFIED:20230131T190346Z
UID:10000508-1714406400-1714417200@www.stadthund.de
SUMMARY:Ersttermine / Einzeltraining
DESCRIPTION:
URL:https://www.stadthund.de/termin/ersttermine-einzeltraining/2024-04-29/
END:VEVENT
END:VCALENDAR