BEGIN:VCALENDAR
VERSION:2.0
PRODID:-//Stadthund - ECPv6.5.1.5//NONSGML v1.0//EN
CALSCALE:GREGORIAN
METHOD:PUBLISH
X-ORIGINAL-URL:https://www.stadthund.de
X-WR-CALDESC:Veranstaltungen für Stadthund
REFRESH-INTERVAL;VALUE=DURATION:PT1H
X-Robots-Tag:noindex
X-PUBLISHED-TTL:PT1H
BEGIN:VTIMEZONE
TZID:Europe/Helsinki
BEGIN:DAYLIGHT
TZOFFSETFROM:+0200
TZOFFSETTO:+0300
TZNAME:EEST
DTSTART:20240331T010000
END:DAYLIGHT
BEGIN:STANDARD
TZOFFSETFROM:+0300
TZOFFSETTO:+0200
TZNAME:EET
DTSTART:20241027T010000
END:STANDARD
END:VTIMEZONE
BEGIN:VEVENT
DTSTART;TZID=Europe/Helsinki:20240304T160000
DTEND;TZID=Europe/Helsinki:20240304T190000
DTSTAMP:20260421T011344
CREATED:20230131T190346Z
LAST-MODIFIED:20230131T190346Z
UID:10000500-1709568000-1709578800@www.stadthund.de
SUMMARY:Ersttermine / Einzeltraining
DESCRIPTION:
URL:https://www.stadthund.de/termin/ersttermine-einzeltraining/2024-03-04/
END:VEVENT
BEGIN:VEVENT
DTSTART;TZID=Europe/Helsinki:20240311T160000
DTEND;TZID=Europe/Helsinki:20240311T190000
DTSTAMP:20260421T011344
CREATED:20230131T190346Z
LAST-MODIFIED:20230131T190346Z
UID:10000501-1710172800-1710183600@www.stadthund.de
SUMMARY:Ersttermine / Einzeltraining
DESCRIPTION:
URL:https://www.stadthund.de/termin/ersttermine-einzeltraining/2024-03-11/
END:VEVENT
BEGIN:VEVENT
DTSTART;TZID=Europe/Helsinki:20240318T160000
DTEND;TZID=Europe/Helsinki:20240318T190000
DTSTAMP:20260421T011344
CREATED:20230131T190346Z
LAST-MODIFIED:20230131T190346Z
UID:10000502-1710777600-1710788400@www.stadthund.de
SUMMARY:Ersttermine / Einzeltraining
DESCRIPTION:
URL:https://www.stadthund.de/termin/ersttermine-einzeltraining/2024-03-18/
END:VEVENT
BEGIN:VEVENT
DTSTART;TZID=Europe/Helsinki:20240325T160000
DTEND;TZID=Europe/Helsinki:20240325T190000
DTSTAMP:20260421T011344
CREATED:20230131T190346Z
LAST-MODIFIED:20230131T190346Z
UID:10000503-1711382400-1711393200@www.stadthund.de
SUMMARY:Ersttermine / Einzeltraining
DESCRIPTION:
URL:https://www.stadthund.de/termin/ersttermine-einzeltraining/2024-03-25/
END:VEVENT
END:VCALENDAR