BEGIN:VCALENDAR
VERSION:2.0
PRODID:-//Stadthund - ECPv6.5.1.5//NONSGML v1.0//EN
CALSCALE:GREGORIAN
METHOD:PUBLISH
X-WR-CALNAME:Stadthund
X-ORIGINAL-URL:https://www.stadthund.de
X-WR-CALDESC:Veranstaltungen für Stadthund
REFRESH-INTERVAL;VALUE=DURATION:PT1H
X-Robots-Tag:noindex
X-PUBLISHED-TTL:PT1H
BEGIN:VTIMEZONE
TZID:Europe/Helsinki
BEGIN:DAYLIGHT
TZOFFSETFROM:+0200
TZOFFSETTO:+0300
TZNAME:EEST
DTSTART:20240331T010000
END:DAYLIGHT
BEGIN:STANDARD
TZOFFSETFROM:+0300
TZOFFSETTO:+0200
TZNAME:EET
DTSTART:20241027T010000
END:STANDARD
END:VTIMEZONE
BEGIN:VEVENT
DTSTART;TZID=Europe/Helsinki:20240205T160000
DTEND;TZID=Europe/Helsinki:20240205T190000
DTSTAMP:20260421T025829
CREATED:20230131T190346Z
LAST-MODIFIED:20230131T190346Z
UID:10000496-1707148800-1707159600@www.stadthund.de
SUMMARY:Ersttermine / Einzeltraining
DESCRIPTION:
URL:https://www.stadthund.de/termin/ersttermine-einzeltraining/2024-02-05/
END:VEVENT
BEGIN:VEVENT
DTSTART;TZID=Europe/Helsinki:20240212T160000
DTEND;TZID=Europe/Helsinki:20240212T190000
DTSTAMP:20260421T025830
CREATED:20230131T190346Z
LAST-MODIFIED:20230131T190346Z
UID:10000497-1707753600-1707764400@www.stadthund.de
SUMMARY:Ersttermine / Einzeltraining
DESCRIPTION:
URL:https://www.stadthund.de/termin/ersttermine-einzeltraining/2024-02-12/
END:VEVENT
BEGIN:VEVENT
DTSTART;TZID=Europe/Helsinki:20240219T160000
DTEND;TZID=Europe/Helsinki:20240219T190000
DTSTAMP:20260421T025830
CREATED:20230131T190346Z
LAST-MODIFIED:20230131T190346Z
UID:10000498-1708358400-1708369200@www.stadthund.de
SUMMARY:Ersttermine / Einzeltraining
DESCRIPTION:
URL:https://www.stadthund.de/termin/ersttermine-einzeltraining/2024-02-19/
END:VEVENT
BEGIN:VEVENT
DTSTART;TZID=Europe/Helsinki:20240226T160000
DTEND;TZID=Europe/Helsinki:20240226T190000
DTSTAMP:20260421T025830
CREATED:20230131T190346Z
LAST-MODIFIED:20230131T190346Z
UID:10000499-1708963200-1708974000@www.stadthund.de
SUMMARY:Ersttermine / Einzeltraining
DESCRIPTION:
URL:https://www.stadthund.de/termin/ersttermine-einzeltraining/2024-02-26/
END:VEVENT
END:VCALENDAR