BEGIN:VCALENDAR
VERSION:2.0
PRODID:-//Stadthund - ECPv6.5.1.5//NONSGML v1.0//EN
CALSCALE:GREGORIAN
METHOD:PUBLISH
X-WR-CALNAME:Stadthund
X-ORIGINAL-URL:https://www.stadthund.de
X-WR-CALDESC:Veranstaltungen für Stadthund
REFRESH-INTERVAL;VALUE=DURATION:PT1H
X-Robots-Tag:noindex
X-PUBLISHED-TTL:PT1H
BEGIN:VTIMEZONE
TZID:Europe/Helsinki
BEGIN:DAYLIGHT
TZOFFSETFROM:+0200
TZOFFSETTO:+0300
TZNAME:EEST
DTSTART:20230326T010000
END:DAYLIGHT
BEGIN:STANDARD
TZOFFSETFROM:+0300
TZOFFSETTO:+0200
TZNAME:EET
DTSTART:20231029T010000
END:STANDARD
END:VTIMEZONE
BEGIN:VEVENT
DTSTART;TZID=Europe/Helsinki:20231204T160000
DTEND;TZID=Europe/Helsinki:20231204T190000
DTSTAMP:20260421T063524
CREATED:20230131T190346Z
LAST-MODIFIED:20230131T190346Z
UID:10000487-1701705600-1701716400@www.stadthund.de
SUMMARY:Ersttermine / Einzeltraining
DESCRIPTION:
URL:https://www.stadthund.de/termin/ersttermine-einzeltraining/2023-12-04/
END:VEVENT
BEGIN:VEVENT
DTSTART;TZID=Europe/Helsinki:20231211T160000
DTEND;TZID=Europe/Helsinki:20231211T190000
DTSTAMP:20260421T063524
CREATED:20230131T190346Z
LAST-MODIFIED:20230131T190346Z
UID:10000488-1702310400-1702321200@www.stadthund.de
SUMMARY:Ersttermine / Einzeltraining
DESCRIPTION:
URL:https://www.stadthund.de/termin/ersttermine-einzeltraining/2023-12-11/
END:VEVENT
BEGIN:VEVENT
DTSTART;TZID=Europe/Helsinki:20231218T160000
DTEND;TZID=Europe/Helsinki:20231218T190000
DTSTAMP:20260421T063524
CREATED:20230131T190346Z
LAST-MODIFIED:20230131T190346Z
UID:10000489-1702915200-1702926000@www.stadthund.de
SUMMARY:Ersttermine / Einzeltraining
DESCRIPTION:
URL:https://www.stadthund.de/termin/ersttermine-einzeltraining/2023-12-18/
END:VEVENT
BEGIN:VEVENT
DTSTART;TZID=Europe/Helsinki:20231225T160000
DTEND;TZID=Europe/Helsinki:20231225T190000
DTSTAMP:20260421T063524
CREATED:20230131T190346Z
LAST-MODIFIED:20230131T190346Z
UID:10000490-1703520000-1703530800@www.stadthund.de
SUMMARY:Ersttermine / Einzeltraining
DESCRIPTION:
URL:https://www.stadthund.de/termin/ersttermine-einzeltraining/2023-12-25/
END:VEVENT
END:VCALENDAR