BEGIN:VCALENDAR
VERSION:2.0
PRODID:-//Stadthund - ECPv6.5.1.5//NONSGML v1.0//EN
CALSCALE:GREGORIAN
METHOD:PUBLISH
X-ORIGINAL-URL:https://www.stadthund.de
X-WR-CALDESC:Veranstaltungen für Stadthund
REFRESH-INTERVAL;VALUE=DURATION:PT1H
X-Robots-Tag:noindex
X-PUBLISHED-TTL:PT1H
BEGIN:VTIMEZONE
TZID:Europe/Helsinki
BEGIN:DAYLIGHT
TZOFFSETFROM:+0200
TZOFFSETTO:+0300
TZNAME:EEST
DTSTART:20230326T010000
END:DAYLIGHT
BEGIN:STANDARD
TZOFFSETFROM:+0300
TZOFFSETTO:+0200
TZNAME:EET
DTSTART:20231029T010000
END:STANDARD
END:VTIMEZONE
BEGIN:VEVENT
DTSTART;TZID=Europe/Helsinki:20231106T160000
DTEND;TZID=Europe/Helsinki:20231106T190000
DTSTAMP:20260421T083958
CREATED:20230131T190346Z
LAST-MODIFIED:20230131T190346Z
UID:10000483-1699286400-1699297200@www.stadthund.de
SUMMARY:Ersttermine / Einzeltraining
DESCRIPTION:
URL:https://www.stadthund.de/termin/ersttermine-einzeltraining/2023-11-06/
END:VEVENT
BEGIN:VEVENT
DTSTART;TZID=Europe/Helsinki:20231113T160000
DTEND;TZID=Europe/Helsinki:20231113T190000
DTSTAMP:20260421T083958
CREATED:20230131T190346Z
LAST-MODIFIED:20230131T190346Z
UID:10000484-1699891200-1699902000@www.stadthund.de
SUMMARY:Ersttermine / Einzeltraining
DESCRIPTION:
URL:https://www.stadthund.de/termin/ersttermine-einzeltraining/2023-11-13/
END:VEVENT
BEGIN:VEVENT
DTSTART;TZID=Europe/Helsinki:20231120T160000
DTEND;TZID=Europe/Helsinki:20231120T190000
DTSTAMP:20260421T083958
CREATED:20230131T190346Z
LAST-MODIFIED:20230131T190346Z
UID:10000485-1700496000-1700506800@www.stadthund.de
SUMMARY:Ersttermine / Einzeltraining
DESCRIPTION:
URL:https://www.stadthund.de/termin/ersttermine-einzeltraining/2023-11-20/
END:VEVENT
BEGIN:VEVENT
DTSTART;TZID=Europe/Helsinki:20231127T160000
DTEND;TZID=Europe/Helsinki:20231127T190000
DTSTAMP:20260421T083958
CREATED:20230131T190346Z
LAST-MODIFIED:20230131T190346Z
UID:10000486-1701100800-1701111600@www.stadthund.de
SUMMARY:Ersttermine / Einzeltraining
DESCRIPTION:
URL:https://www.stadthund.de/termin/ersttermine-einzeltraining/2023-11-27/
END:VEVENT
END:VCALENDAR