BEGIN:VCALENDAR
VERSION:2.0
PRODID:-//Stadthund - ECPv6.5.1.5//NONSGML v1.0//EN
CALSCALE:GREGORIAN
METHOD:PUBLISH
X-ORIGINAL-URL:https://www.stadthund.de
X-WR-CALDESC:Veranstaltungen für Stadthund
REFRESH-INTERVAL;VALUE=DURATION:PT1H
X-Robots-Tag:noindex
X-PUBLISHED-TTL:PT1H
BEGIN:VTIMEZONE
TZID:Europe/Helsinki
BEGIN:DAYLIGHT
TZOFFSETFROM:+0200
TZOFFSETTO:+0300
TZNAME:EEST
DTSTART:20230326T010000
END:DAYLIGHT
BEGIN:STANDARD
TZOFFSETFROM:+0300
TZOFFSETTO:+0200
TZNAME:EET
DTSTART:20231029T010000
END:STANDARD
END:VTIMEZONE
BEGIN:VEVENT
DTSTART;TZID=Europe/Helsinki:20230605T160000
DTEND;TZID=Europe/Helsinki:20230605T190000
DTSTAMP:20260421T165839
CREATED:20230131T190346Z
LAST-MODIFIED:20230131T190346Z
UID:10000461-1685980800-1685991600@www.stadthund.de
SUMMARY:Ersttermine / Einzeltraining
DESCRIPTION:
URL:https://www.stadthund.de/termin/ersttermine-einzeltraining/2023-06-05/
END:VEVENT
BEGIN:VEVENT
DTSTART;TZID=Europe/Helsinki:20230612T160000
DTEND;TZID=Europe/Helsinki:20230612T190000
DTSTAMP:20260421T165839
CREATED:20230131T190346Z
LAST-MODIFIED:20230131T190346Z
UID:10000462-1686585600-1686596400@www.stadthund.de
SUMMARY:Ersttermine / Einzeltraining
DESCRIPTION:
URL:https://www.stadthund.de/termin/ersttermine-einzeltraining/2023-06-12/
END:VEVENT
BEGIN:VEVENT
DTSTART;TZID=Europe/Helsinki:20230619T160000
DTEND;TZID=Europe/Helsinki:20230619T190000
DTSTAMP:20260421T165839
CREATED:20230131T190346Z
LAST-MODIFIED:20230131T190346Z
UID:10000463-1687190400-1687201200@www.stadthund.de
SUMMARY:Ersttermine / Einzeltraining
DESCRIPTION:
URL:https://www.stadthund.de/termin/ersttermine-einzeltraining/2023-06-19/
END:VEVENT
BEGIN:VEVENT
DTSTART;TZID=Europe/Helsinki:20230626T160000
DTEND;TZID=Europe/Helsinki:20230626T190000
DTSTAMP:20260421T165839
CREATED:20230131T190346Z
LAST-MODIFIED:20230131T190346Z
UID:10000464-1687795200-1687806000@www.stadthund.de
SUMMARY:Ersttermine / Einzeltraining
DESCRIPTION:
URL:https://www.stadthund.de/termin/ersttermine-einzeltraining/2023-06-26/
END:VEVENT
END:VCALENDAR